BEGIN:VCALENDAR
VERSION:2.0
PRODID:-//pretix//pretix-PROD_Wien//
BEGIN:VEVENT
UID:pretix-baeder-grossfeldsiedlung-4788@ticket.wien.gv.at
DTSTART;VALUE=DATE:20210609
DTEND;VALUE=DATE:20210610
DESCRIPTION:Tickets: https://ticket.wien.gv.at/baeder/grossfeldsiedlung/478
 8/\nVeranstalter: MA 44 Wiener Bäder
DTSTAMP:20260425T170912Z
SUMMARY:Eintritt Großfeldsiedlungsbad
END:VEVENT
END:VCALENDAR
