BEGIN:VCALENDAR
VERSION:2.0
PRODID:-//pretix//pretix-PROD_Wien//
BEGIN:VEVENT
UID:pretix-baeder-grossfeldsiedlung-4677@ticket.wien.gv.at
DTSTART;VALUE=DATE:20210604
DTEND;VALUE=DATE:20210605
DESCRIPTION:Tickets: https://ticket.wien.gv.at/baeder/grossfeldsiedlung/467
 7/\nVeranstalter: MA 44 Wiener Bäder
DTSTAMP:20260425T163457Z
SUMMARY:Eintritt Großfeldsiedlungsbad
END:VEVENT
END:VCALENDAR
