BEGIN:VCALENDAR
VERSION:2.0
PRODID:-//pretix//pretix-PROD_Wien//
BEGIN:VEVENT
UID:pretix-baeder-grossfeldsiedlung-19869@ticket.wien.gv.at
DTSTART;VALUE=DATE:20220116
DTEND;VALUE=DATE:20220117
DESCRIPTION:Tickets: https://ticket.wien.gv.at/baeder/grossfeldsiedlung/198
 69/\nVeranstalter: MA 44 Wiener Bäder
DTSTAMP:20260425T204157Z
SUMMARY:Badegäste Warmbadebetrieb
END:VEVENT
END:VCALENDAR
