BEGIN:VCALENDAR
VERSION:2.0
PRODID:-//pretix//pretix-PROD_Wien//
BEGIN:VEVENT
UID:pretix-baeder-grossfeldsiedlung-19798@ticket.wien.gv.at
DTSTART;VALUE=DATE:20220112
DTEND;VALUE=DATE:20220113
DESCRIPTION:Tickets: https://ticket.wien.gv.at/baeder/grossfeldsiedlung/197
 98/\nVeranstalter: MA 44 Wiener Bäder
DTSTAMP:20260425T185326Z
SUMMARY:Badegäste Mi.
END:VEVENT
END:VCALENDAR
