BEGIN:VCALENDAR
VERSION:2.0
PRODID:-//pretix//pretix-PROD_Wien//
BEGIN:VEVENT
UID:pretix-baeder-grossfeldsiedlung-19732@ticket.wien.gv.at
DTSTART;VALUE=DATE:20220107
DTEND;VALUE=DATE:20220108
DESCRIPTION:Tickets: https://ticket.wien.gv.at/baeder/grossfeldsiedlung/197
 32/\nVeranstalter: MA 44 Wiener Bäder
DTSTAMP:20260425T183630Z
SUMMARY:Ferien Badegäste 7.1.2022
END:VEVENT
END:VCALENDAR
