BEGIN:VCALENDAR
VERSION:2.0
PRODID:-//pretix//pretix-PROD_Wien//
BEGIN:VEVENT
UID:pretix-baeder-grossfeldsiedlung-19653@ticket.wien.gv.at
DTSTART;VALUE=DATE:20211228
DTEND;VALUE=DATE:20211229
DESCRIPTION:Tickets: https://ticket.wien.gv.at/baeder/grossfeldsiedlung/196
 53/\nVeranstalter: MA 44 Wiener Bäder
DTSTAMP:20260425T163455Z
SUMMARY:Ferien Badegäste 28.12.2021
END:VEVENT
END:VCALENDAR
