BEGIN:VCALENDAR
VERSION:2.0
PRODID:-//pretix//pretix-PROD_Wien//
BEGIN:VEVENT
UID:pretix-baeder-grossfeldsiedlung-19581@ticket.wien.gv.at
DTSTART;VALUE=DATE:20211221
DTEND;VALUE=DATE:20211222
DESCRIPTION:Tickets: https://ticket.wien.gv.at/baeder/grossfeldsiedlung/195
 81/\nVeranstalter: MA 44 Wiener Bäder
DTSTAMP:20260425T201039Z
SUMMARY:Badegäste Mo./Di.
END:VEVENT
END:VCALENDAR
