BEGIN:VCALENDAR
VERSION:2.0
PRODID:-//pretix//pretix-PROD_Wien//
BEGIN:VEVENT
UID:pretix-baeder-grossfeldsiedlung-19569@ticket.wien.gv.at
DTSTART;VALUE=DATE:20211220
DTEND;VALUE=DATE:20211221
DESCRIPTION:Tickets: https://ticket.wien.gv.at/baeder/grossfeldsiedlung/195
 69/\nVeranstalter: MA 44 Wiener Bäder
DTSTAMP:20260425T204155Z
SUMMARY:Badegäste Mo./Di.
END:VEVENT
END:VCALENDAR
