BEGIN:VCALENDAR
VERSION:2.0
PRODID:-//pretix//pretix-PROD_Wien//
BEGIN:VEVENT
UID:pretix-baeder-grossfeldsiedlung-19559@ticket.wien.gv.at
DTSTART;VALUE=DATE:20211219
DTEND;VALUE=DATE:20211220
DESCRIPTION:Tickets: https://ticket.wien.gv.at/baeder/grossfeldsiedlung/195
 59/\nVeranstalter: MA 44 Wiener Bäder
DTSTAMP:20260425T170905Z
SUMMARY:Badegäste So.
END:VEVENT
END:VCALENDAR
