BEGIN:VCALENDAR
VERSION:2.0
PRODID:-//pretix//pretix-PROD_Wien//
BEGIN:VEVENT
UID:pretix-baeder-grossfeldsiedlung-19546@ticket.wien.gv.at
DTSTART;VALUE=DATE:20211217
DTEND;VALUE=DATE:20211218
DESCRIPTION:Tickets: https://ticket.wien.gv.at/baeder/grossfeldsiedlung/195
 46/\nVeranstalter: MA 44 Wiener Bäder
DTSTAMP:20260425T225418Z
SUMMARY:Badegäste Fr.
END:VEVENT
END:VCALENDAR
