BEGIN:VCALENDAR
VERSION:2.0
PRODID:-//pretix//pretix-PROD_Wien//
BEGIN:VEVENT
UID:pretix-baeder-grossfeldsiedlung-19277@ticket.wien.gv.at
DTSTART;VALUE=DATE:20211120
DTEND;VALUE=DATE:20211121
DESCRIPTION:Tickets: https://ticket.wien.gv.at/baeder/grossfeldsiedlung/192
 77/\nVeranstalter: MA 44 Wiener Bäder
DTSTAMP:20260425T185326Z
SUMMARY:Badegäste Sa.
END:VEVENT
END:VCALENDAR
