BEGIN:VCALENDAR
VERSION:2.0
PRODID:-//pretix//pretix-PROD_Wien//
BEGIN:VEVENT
UID:pretix-baeder-grossfeldsiedlung-19165@ticket.wien.gv.at
DTSTART;VALUE=DATE:20211113
DTEND;VALUE=DATE:20211114
DESCRIPTION:Tickets: https://ticket.wien.gv.at/baeder/grossfeldsiedlung/191
 65/\nVeranstalter: MA 44 Wiener Bäder
DTSTAMP:20260425T183620Z
SUMMARY:Badegäste Sa.
END:VEVENT
END:VCALENDAR
