BEGIN:VCALENDAR
VERSION:2.0
PRODID:-//pretix//pretix-PROD_Wien//
BEGIN:VEVENT
UID:pretix-baeder-grossfeldsiedlung-19148@ticket.wien.gv.at
DTSTART;VALUE=DATE:20211112
DTEND;VALUE=DATE:20211113
DESCRIPTION:Tickets: https://ticket.wien.gv.at/baeder/grossfeldsiedlung/191
 48/\nVeranstalter: MA 44 Wiener Bäder
DTSTAMP:20260425T183618Z
SUMMARY:Badegäste Fr.
END:VEVENT
END:VCALENDAR
