BEGIN:VCALENDAR
VERSION:2.0
PRODID:-//pretix//pretix-PROD_Wien//
BEGIN:VEVENT
UID:pretix-baeder-grossfeldsiedlung-18961@ticket.wien.gv.at
DTSTART;VALUE=DATE:20211030
DTEND;VALUE=DATE:20211031
DESCRIPTION:Tickets: https://ticket.wien.gv.at/baeder/grossfeldsiedlung/189
 61/\nVeranstalter: MA 44 Wiener Bäder
DTSTAMP:20260425T221808Z
SUMMARY:Ferien Badegäste 30.10.2021
END:VEVENT
END:VCALENDAR
