BEGIN:VCALENDAR
VERSION:2.0
PRODID:-//pretix//pretix-PROD_Wien//
BEGIN:VEVENT
UID:pretix-baeder-grossfeldsiedlung-18814@ticket.wien.gv.at
DTSTART;VALUE=DATE:20211019
DTEND;VALUE=DATE:20211020
DESCRIPTION:Tickets: https://ticket.wien.gv.at/baeder/grossfeldsiedlung/188
 14/\nVeranstalter: MA 44 Wiener Bäder
DTSTAMP:20260425T201024Z
SUMMARY:Badegäste Mo./Di.
END:VEVENT
END:VCALENDAR
