BEGIN:VCALENDAR
VERSION:2.0
PRODID:-//pretix//pretix-PROD_Wien//
BEGIN:VEVENT
UID:pretix-baeder-grossfeldsiedlung-18691@ticket.wien.gv.at
DTSTART;VALUE=DATE:20211011
DTEND;VALUE=DATE:20211012
DESCRIPTION:Tickets: https://ticket.wien.gv.at/baeder/grossfeldsiedlung/186
 91/\nVeranstalter: MA 44 Wiener Bäder
DTSTAMP:20260425T201024Z
SUMMARY:Badegäste Mo./Di.
END:VEVENT
END:VCALENDAR
