BEGIN:VCALENDAR
VERSION:2.0
PRODID:-//pretix//pretix-PROD_Wien//
BEGIN:VEVENT
UID:pretix-baeder-grossfeldsiedlung-18681@ticket.wien.gv.at
DTSTART;VALUE=DATE:20211010
DTEND;VALUE=DATE:20211011
DESCRIPTION:Tickets: https://ticket.wien.gv.at/baeder/grossfeldsiedlung/186
 81/\nVeranstalter: MA 44 Wiener Bäder
DTSTAMP:20260425T181950Z
SUMMARY:Badegäste So.
END:VEVENT
END:VCALENDAR
