BEGIN:VCALENDAR
VERSION:2.0
PRODID:-//pretix//pretix-PROD_Wien//
BEGIN:VEVENT
UID:pretix-baeder-grossfeldsiedlung-14884@ticket.wien.gv.at
DTSTART;VALUE=DATE:20211005
DTEND;VALUE=DATE:20211006
DESCRIPTION:Tickets: https://ticket.wien.gv.at/baeder/grossfeldsiedlung/148
 84/\nVeranstalter: MA 44 Wiener Bäder
DTSTAMP:20260425T165205Z
SUMMARY:Eintritt Großfeldsiedlungsbad
END:VEVENT
END:VCALENDAR
