BEGIN:VCALENDAR
VERSION:2.0
PRODID:-//pretix//pretix-PROD_Wien//
BEGIN:VEVENT
UID:pretix-baeder-grossfeldsiedlung-14089@ticket.wien.gv.at
DTSTART;VALUE=DATE:20211004
DTEND;VALUE=DATE:20211005
DESCRIPTION:Tickets: https://ticket.wien.gv.at/baeder/grossfeldsiedlung/140
 89/\nVeranstalter: MA 44 Wiener Bäder
DTSTAMP:20260425T170902Z
SUMMARY:Eintritt Großfeldsiedlungsbad
END:VEVENT
END:VCALENDAR
