BEGIN:VCALENDAR
VERSION:2.0
PRODID:-//pretix//pretix-PROD_Wien//
BEGIN:VEVENT
UID:pretix-baeder-grossfeldsiedlung-13304@ticket.wien.gv.at
DTSTART;VALUE=DATE:20211001
DTEND;VALUE=DATE:20211002
DESCRIPTION:Tickets: https://ticket.wien.gv.at/baeder/grossfeldsiedlung/133
 04/\nVeranstalter: MA 44 Wiener Bäder
DTSTAMP:20260426T000044Z
SUMMARY:Eintritt Großfeldsiedlungsbad
END:VEVENT
END:VCALENDAR
