BEGIN:VCALENDAR
VERSION:2.0
PRODID:-//pretix//pretix-PROD_Wien//
BEGIN:VEVENT
UID:pretix-baeder-gaensehaeufel-24773@ticket.wien.gv.at
DTSTART;VALUE=DATE:20220829
DTEND;VALUE=DATE:20220830
DESCRIPTION:Tickets: https://ticket.wien.gv.at/baeder/gaensehaeufel/24773/\
 nVeranstalter: MA 44 Wiener Bäder
DTSTAMP:20260425T213023Z
SUMMARY:Badegäste Freibad Mo-Fr
END:VEVENT
END:VCALENDAR
