BEGIN:VCALENDAR
VERSION:2.0
PRODID:-//pretix//pretix-PROD_Wien//
BEGIN:VEVENT
UID:pretix-baeder-gaensehaeufel-24409@ticket.wien.gv.at
DTSTART;VALUE=DATE:20220815
DTEND;VALUE=DATE:20220816
DESCRIPTION:Tickets: https://ticket.wien.gv.at/baeder/gaensehaeufel/24409/\
 nVeranstalter: MA 44 Wiener Bäder
DTSTAMP:20260425T221518Z
SUMMARY:Badegäste Freibad Mo-Fr
END:VEVENT
END:VCALENDAR
