BEGIN:VCALENDAR
VERSION:2.0
PRODID:-//pretix//pretix-PROD_Wien//
BEGIN:VEVENT
UID:pretix-baeder-gaensehaeufel-24157@ticket.wien.gv.at
DTSTART;VALUE=DATE:20220805
DTEND;VALUE=DATE:20220806
DESCRIPTION:Tickets: https://ticket.wien.gv.at/baeder/gaensehaeufel/24157/\
 nVeranstalter: MA 44 Wiener Bäder
DTSTAMP:20260425T170828Z
SUMMARY:Badegäste Freibad Mo-Fr
END:VEVENT
END:VCALENDAR
