BEGIN:VCALENDAR
VERSION:2.0
PRODID:-//pretix//pretix-PROD_Wien//
BEGIN:VEVENT
UID:pretix-baeder-gaensehaeufel-23898@ticket.wien.gv.at
DTSTART;VALUE=DATE:20220726
DTEND;VALUE=DATE:20220727
DESCRIPTION:Tickets: https://ticket.wien.gv.at/baeder/gaensehaeufel/23898/\
 nVeranstalter: MA 44 Wiener Bäder
DTSTAMP:20260425T201045Z
SUMMARY:Badegäste Freibad Mo-Fr
END:VEVENT
END:VCALENDAR
