BEGIN:VCALENDAR
VERSION:2.0
PRODID:-//pretix//pretix-PROD_Wien//
BEGIN:VEVENT
UID:pretix-baeder-gaensehaeufel-23826@ticket.wien.gv.at
DTSTART;VALUE=DATE:20220723
DTEND;VALUE=DATE:20220724
DESCRIPTION:Tickets: https://ticket.wien.gv.at/baeder/gaensehaeufel/23826/\
 nVeranstalter: MA 44 Wiener Bäder
DTSTAMP:20260425T170824Z
SUMMARY:Badegäste Freibad Sa/So
END:VEVENT
END:VCALENDAR
