BEGIN:VCALENDAR
VERSION:2.0
PRODID:-//pretix//pretix-PROD_Wien//
BEGIN:VEVENT
UID:pretix-baeder-gaensehaeufel-23535@ticket.wien.gv.at
DTSTART;VALUE=DATE:20220712
DTEND;VALUE=DATE:20220713
DESCRIPTION:Tickets: https://ticket.wien.gv.at/baeder/gaensehaeufel/23535/\
 nVeranstalter: MA 44 Wiener Bäder
DTSTAMP:20260425T170830Z
SUMMARY:Badegäste Freibad Mo-Fr
END:VEVENT
END:VCALENDAR
