BEGIN:VCALENDAR
VERSION:2.0
PRODID:-//pretix//pretix-PROD_Wien//
BEGIN:VEVENT
UID:pretix-baeder-gaensehaeufel-22961@ticket.wien.gv.at
DTSTART;VALUE=DATE:20220622
DTEND;VALUE=DATE:20220623
DESCRIPTION:Tickets: https://ticket.wien.gv.at/baeder/gaensehaeufel/22961/\
 nVeranstalter: MA 44 Wiener Bäder
DTSTAMP:20260425T170854Z
SUMMARY:Badegäste Freibad Mo-Fr
END:VEVENT
END:VCALENDAR
