BEGIN:VCALENDAR
VERSION:2.0
PRODID:-//pretix//pretix-PROD_Wien//
BEGIN:VEVENT
UID:pretix-baeder-floridsdorf-80848@ticket.wien.gv.at
DTSTART;VALUE=DATE:20260426
DTEND;VALUE=DATE:20260427
DESCRIPTION:Tickets: https://ticket.wien.gv.at/baeder/floridsdorf/80848/\nV
 eranstalter: MA 44 Wiener Bäder
DTSTAMP:20260425T180012Z
SUMMARY:Badegäste So.
END:VEVENT
END:VCALENDAR
