BEGIN:VCALENDAR
VERSION:2.0
PRODID:-//pretix//pretix-PROD_Wien//
BEGIN:VEVENT
UID:pretix-baeder-floridsdorf-79514@ticket.wien.gv.at
DTSTART;VALUE=DATE:20260310
DTEND;VALUE=DATE:20260311
DESCRIPTION:Tickets: https://ticket.wien.gv.at/baeder/floridsdorf/79514/\nV
 eranstalter: MA 44 Wiener Bäder
DTSTAMP:20260425T163505Z
SUMMARY:Badegäste Frühschwimmen
END:VEVENT
END:VCALENDAR
