BEGIN:VCALENDAR
VERSION:2.0
PRODID:-//pretix//pretix-PROD_Wien//
BEGIN:VEVENT
UID:pretix-baeder-floridsdorf-75781@ticket.wien.gv.at
DTSTART;VALUE=DATE:20251207
DTEND;VALUE=DATE:20251208
DESCRIPTION:Tickets: https://ticket.wien.gv.at/baeder/floridsdorf/75781/\nV
 eranstalter: MA 44 Wiener Bäder
DTSTAMP:20260425T161935Z
SUMMARY:Badegäste So.
END:VEVENT
END:VCALENDAR
