BEGIN:VCALENDAR
VERSION:2.0
PRODID:-//pretix//pretix-PROD_Wien//
BEGIN:VEVENT
UID:pretix-baeder-floridsdorf-75090@ticket.wien.gv.at
DTSTART;VALUE=DATE:20251205
DTEND;VALUE=DATE:20251206
DESCRIPTION:Tickets: https://ticket.wien.gv.at/baeder/floridsdorf/75090/\nV
 eranstalter: MA 44 Wiener Bäder
DTSTAMP:20260425T201048Z
SUMMARY:Badegäste Di./Fr.
END:VEVENT
END:VCALENDAR
