BEGIN:VCALENDAR
VERSION:2.0
PRODID:-//pretix//pretix-PROD_Wien//
BEGIN:VEVENT
UID:pretix-baeder-floridsdorf-74123@ticket.wien.gv.at
DTSTART;VALUE=DATE:20251125
DTEND;VALUE=DATE:20251126
DESCRIPTION:Tickets: https://ticket.wien.gv.at/baeder/floridsdorf/74123/\nV
 eranstalter: MA 44 Wiener Bäder
DTSTAMP:20260425T221523Z
SUMMARY:Badegäste Di./Fr.
END:VEVENT
END:VCALENDAR
