BEGIN:VCALENDAR
VERSION:2.0
PRODID:-//pretix//pretix-PROD_Wien//
BEGIN:VEVENT
UID:pretix-baeder-floridsdorf-73964@ticket.wien.gv.at
DTSTART;VALUE=DATE:20251116
DTEND;VALUE=DATE:20251117
DESCRIPTION:Tickets: https://ticket.wien.gv.at/baeder/floridsdorf/73964/\nV
 eranstalter: MA 44 Wiener Bäder
DTSTAMP:20260426T000057Z
SUMMARY:Badegäste So.
END:VEVENT
END:VCALENDAR
