BEGIN:VCALENDAR
VERSION:2.0
PRODID:-//pretix//pretix-PROD_Wien//
BEGIN:VEVENT
UID:pretix-baeder-floridsdorf-73881@ticket.wien.gv.at
DTSTART;VALUE=DATE:20251113
DTEND;VALUE=DATE:20251114
DESCRIPTION:Tickets: https://ticket.wien.gv.at/baeder/floridsdorf/73881/\nV
 eranstalter: MA 44 Wiener Bäder
DTSTAMP:20260425T170837Z
SUMMARY:Badegäste Do.
END:VEVENT
END:VCALENDAR
