BEGIN:VCALENDAR
VERSION:2.0
PRODID:-//pretix//pretix-PROD_Wien//
BEGIN:VEVENT
UID:pretix-baeder-floridsdorf-73166@ticket.wien.gv.at
DTSTART;VALUE=DATE:20251106
DTEND;VALUE=DATE:20251107
DESCRIPTION:Tickets: https://ticket.wien.gv.at/baeder/floridsdorf/73166/\nV
 eranstalter: MA 44 Wiener Bäder
DTSTAMP:20260425T174751Z
SUMMARY:Badegäste Do.
END:VEVENT
END:VCALENDAR
