BEGIN:VCALENDAR
VERSION:2.0
PRODID:-//pretix//pretix-PROD_Wien//
BEGIN:VEVENT
UID:pretix-baeder-floridsdorf-73137@ticket.wien.gv.at
DTSTART;VALUE=DATE:20251105
DTEND;VALUE=DATE:20251106
DESCRIPTION:Tickets: https://ticket.wien.gv.at/baeder/floridsdorf/73137/\nV
 eranstalter: MA 44 Wiener Bäder
DTSTAMP:20260425T163508Z
SUMMARY:Badegäste Mi.
END:VEVENT
END:VCALENDAR
