BEGIN:VCALENDAR
VERSION:2.0
PRODID:-//pretix//pretix-PROD_Wien//
BEGIN:VEVENT
UID:pretix-baeder-floridsdorf-7032@ticket.wien.gv.at
DTSTART;VALUE=DATE:20210919
DTEND;VALUE=DATE:20210920
DESCRIPTION:Tickets: https://ticket.wien.gv.at/baeder/floridsdorf/7032/\nVe
 ranstalter: MA 44 Wiener Bäder
DTSTAMP:20260425T174742Z
SUMMARY:Eintritt Floridsdorfer Bad
END:VEVENT
END:VCALENDAR
