BEGIN:VCALENDAR
VERSION:2.0
PRODID:-//pretix//pretix-PROD_Wien//
BEGIN:VEVENT
UID:pretix-baeder-floridsdorf-6769@ticket.wien.gv.at
DTSTART;VALUE=DATE:20210907
DTEND;VALUE=DATE:20210908
DESCRIPTION:Tickets: https://ticket.wien.gv.at/baeder/floridsdorf/6769/\nVe
 ranstalter: MA 44 Wiener Bäder
DTSTAMP:20260425T163508Z
SUMMARY:Eintritt Floridsdorfer Bad
END:VEVENT
END:VCALENDAR
