BEGIN:VCALENDAR
VERSION:2.0
PRODID:-//pretix//pretix-PROD_Wien//
BEGIN:VEVENT
UID:pretix-baeder-floridsdorf-6592@ticket.wien.gv.at
DTSTART;VALUE=DATE:20210830
DTEND;VALUE=DATE:20210831
DESCRIPTION:Tickets: https://ticket.wien.gv.at/baeder/floridsdorf/6592/\nVe
 ranstalter: MA 44 Wiener Bäder
DTSTAMP:20260425T202636Z
SUMMARY:Eintritt Floridsdorfer Bad
END:VEVENT
END:VCALENDAR
