BEGIN:VCALENDAR
VERSION:2.0
PRODID:-//pretix//pretix-PROD_Wien//
BEGIN:VEVENT
UID:pretix-baeder-floridsdorf-6459@ticket.wien.gv.at
DTSTART;VALUE=DATE:20210824
DTEND;VALUE=DATE:20210825
DESCRIPTION:Tickets: https://ticket.wien.gv.at/baeder/floridsdorf/6459/\nVe
 ranstalter: MA 44 Wiener Bäder
DTSTAMP:20260425T174743Z
SUMMARY:Eintritt Floridsdorfer Bad
END:VEVENT
END:VCALENDAR
