BEGIN:VCALENDAR
VERSION:2.0
PRODID:-//pretix//pretix-PROD_Wien//
BEGIN:VEVENT
UID:pretix-baeder-floridsdorf-5559@ticket.wien.gv.at
DTSTART;VALUE=DATE:20210714
DTEND;VALUE=DATE:20210715
DESCRIPTION:Tickets: https://ticket.wien.gv.at/baeder/floridsdorf/5559/\nVe
 ranstalter: MA 44 Wiener Bäder
DTSTAMP:20260425T190851Z
SUMMARY:Eintritt Floridsdorfer Bad
END:VEVENT
END:VCALENDAR
