BEGIN:VCALENDAR
VERSION:2.0
PRODID:-//pretix//pretix-PROD_Wien//
BEGIN:VEVENT
UID:pretix-baeder-floridsdorf-5073@ticket.wien.gv.at
DTSTART;VALUE=DATE:20210622
DTEND;VALUE=DATE:20210623
DESCRIPTION:Tickets: https://ticket.wien.gv.at/baeder/floridsdorf/5073/\nVe
 ranstalter: MA 44 Wiener Bäder
DTSTAMP:20260425T163459Z
SUMMARY:Eintritt Floridsdorfer Bad
END:VEVENT
END:VCALENDAR
