BEGIN:VCALENDAR
VERSION:2.0
PRODID:-//pretix//pretix-PROD_Wien//
BEGIN:VEVENT
UID:pretix-baeder-floridsdorf-5027@ticket.wien.gv.at
DTSTART;VALUE=DATE:20210620
DTEND;VALUE=DATE:20210621
DESCRIPTION:Tickets: https://ticket.wien.gv.at/baeder/floridsdorf/5027/\nVe
 ranstalter: MA 44 Wiener Bäder
DTSTAMP:20260426T014259Z
SUMMARY:Eintritt Floridsdorfer Bad
END:VEVENT
END:VCALENDAR
