BEGIN:VCALENDAR
VERSION:2.0
PRODID:-//pretix//pretix-PROD_Wien//
BEGIN:VEVENT
UID:pretix-baeder-floridsdorf-4895@ticket.wien.gv.at
DTSTART;VALUE=DATE:20210614
DTEND;VALUE=DATE:20210615
DESCRIPTION:Tickets: https://ticket.wien.gv.at/baeder/floridsdorf/4895/\nVe
 ranstalter: MA 44 Wiener Bäder
DTSTAMP:20260425T224307Z
SUMMARY:Eintritt Floridsdorfer Bad
END:VEVENT
END:VCALENDAR
