BEGIN:VCALENDAR
VERSION:2.0
PRODID:-//pretix//pretix-PROD_Wien//
BEGIN:VEVENT
UID:pretix-baeder-floridsdorf-4829@ticket.wien.gv.at
DTSTART;VALUE=DATE:20210611
DTEND;VALUE=DATE:20210612
DESCRIPTION:Tickets: https://ticket.wien.gv.at/baeder/floridsdorf/4829/\nVe
 ranstalter: MA 44 Wiener Bäder
DTSTAMP:20260425T212454Z
SUMMARY:Eintritt Floridsdorfer Bad
END:VEVENT
END:VCALENDAR
