BEGIN:VCALENDAR
VERSION:2.0
PRODID:-//pretix//pretix-PROD_Wien//
BEGIN:VEVENT
UID:pretix-baeder-floridsdorf-4676@ticket.wien.gv.at
DTSTART;VALUE=DATE:20210604
DTEND;VALUE=DATE:20210605
DESCRIPTION:Tickets: https://ticket.wien.gv.at/baeder/floridsdorf/4676/\nVe
 ranstalter: MA 44 Wiener Bäder
DTSTAMP:20260426T011410Z
SUMMARY:Eintritt Floridsdorfer Bad
END:VEVENT
END:VCALENDAR
