BEGIN:VCALENDAR
VERSION:2.0
PRODID:-//pretix//pretix-PROD_Wien//
BEGIN:VEVENT
UID:pretix-baeder-floridsdorf-4323@ticket.wien.gv.at
DTSTART;VALUE=DATE:20210519
DTEND;VALUE=DATE:20210520
DESCRIPTION:Tickets: https://ticket.wien.gv.at/baeder/floridsdorf/4323/\nVe
 ranstalter: MA 44 Wiener Bäder
DTSTAMP:20260426T011408Z
SUMMARY:Eintritt Floridsdorfer Bad
END:VEVENT
END:VCALENDAR
