BEGIN:VCALENDAR
VERSION:2.0
PRODID:-//pretix//pretix-PROD_Wien//
BEGIN:VEVENT
UID:pretix-baeder-floridsdorf-26299@ticket.wien.gv.at
DTSTART;VALUE=DATE:20221119
DTEND;VALUE=DATE:20221120
DESCRIPTION:Tickets: https://ticket.wien.gv.at/baeder/floridsdorf/26299/\nV
 eranstalter: MA 44 Wiener Bäder
DTSTAMP:20260425T163501Z
SUMMARY:Badegäste Sa.
END:VEVENT
END:VCALENDAR
