BEGIN:VCALENDAR
VERSION:2.0
PRODID:-//pretix//pretix-PROD_Wien//
BEGIN:VEVENT
UID:pretix-baeder-floridsdorf-26262@ticket.wien.gv.at
DTSTART;VALUE=DATE:20221117
DTEND;VALUE=DATE:20221118
DESCRIPTION:Tickets: https://ticket.wien.gv.at/baeder/floridsdorf/26262/\nV
 eranstalter: MA 44 Wiener Bäder
DTSTAMP:20260425T163502Z
SUMMARY:Badegäste Do.
END:VEVENT
END:VCALENDAR
