BEGIN:VCALENDAR
VERSION:2.0
PRODID:-//pretix//pretix-PROD_Wien//
BEGIN:VEVENT
UID:pretix-baeder-floridsdorf-25886@ticket.wien.gv.at
DTSTART;VALUE=DATE:20221103
DTEND;VALUE=DATE:20221104
DESCRIPTION:Tickets: https://ticket.wien.gv.at/baeder/floridsdorf/25886/\nV
 eranstalter: MA 44 Wiener Bäder
DTSTAMP:20260426T000058Z
SUMMARY:Badegäste Do.
END:VEVENT
END:VCALENDAR
